BEGIN:VCALENDAR
VERSION:2.0
PRODID:-//Fondazione Cariparma - ECPv6.6.0.2//NONSGML v1.0//EN
CALSCALE:GREGORIAN
METHOD:PUBLISH
X-WR-CALNAME:Fondazione Cariparma
X-ORIGINAL-URL:https://www.fondazionecrp.it
X-WR-CALDESC:Eventi per Fondazione Cariparma
REFRESH-INTERVAL;VALUE=DURATION:PT1H
X-Robots-Tag:noindex
X-PUBLISHED-TTL:PT1H
BEGIN:VTIMEZONE
TZID:Europe/Rome
BEGIN:DAYLIGHT
TZOFFSETFROM:+0100
TZOFFSETTO:+0200
TZNAME:CEST
DTSTART:20220327T010000
END:DAYLIGHT
BEGIN:STANDARD
TZOFFSETFROM:+0200
TZOFFSETTO:+0100
TZNAME:CET
DTSTART:20221030T010000
END:STANDARD
END:VTIMEZONE
BEGIN:VEVENT
DTSTART;TZID=Europe/Rome:20220226T100000
DTEND;TZID=Europe/Rome:20220529T180000
DTSTAMP:20260422T151721
CREATED:20220215T161932Z
LAST-MODIFIED:20220929T152250Z
UID:11536-1645869600-1653847200@www.fondazionecrp.it
SUMMARY:La Collezione Cantadori
DESCRIPTION:Recentemente donata a Fondazione Cariparma\, la Collezione di Claudio Cantadori\, pronipote dell’artista Cornelio Ghiretti\, è il frutto di una ricerca costante e appassionata\, che indaga il mondo della scultura e dell’arte decorativa della prima metà del Novecento parmense\, con un particolare interesse nei confronti di tre originali artisti: Renato Brozzi\, Cornelio Ghiretti e Mario Minari. \nL’origine della “Scuola parmense di sbalzo e cesello” va ricercata nel comune ambiente di crescita dei tre artisti originari di Traversetolo: la Fonderia di Giuseppe Baldi\, il luogo in cui si intrecciano le vicende artistiche e le storie personali dei tre giovani agli albori della loro carriera. \nL’apprendistato presso Baldi aveva insegnato loro una struttura di lavoro\, nella quale il “progetto” si fondeva con la procedura esecutiva\, ma per arrivare ad una completa formazione i tre dovettero conciliare il difficile riunirsi del mestiere con l’arte\, dell’abilità manuale con la cultura\, della tradizione con la proiezione artistica futura. Tutti e tre\, in tempi diversi ma con le stesse estreme difficoltà\, hanno frequentato il Regio Istituto di Belle Arti di Parma. \nOltre alla povertà della nascita e all’origine autodidatta della propria cultura\, che li spinge a imparare prima il mestiere e poi l’arte\, accomuna gli artisti l’amoroso interesse per la natura e soprattutto per i singoli animali\, dalla presa diretta alla stilizzazione in complementi d’arredo\, sebbene con sensibilità e predilezioni tematiche del tutto autonome\, che vanno dalla fauna spiccatamente acquatica privilegiata da Ghiretti\, ai fasianidi tanto amati da Minari. \nSe la figura di Brozzi è già stata ampiamente indagata da numerose pubblicazioni e mostre temporanee\, oltre che dal Museo Renato Brozzi che gli è stato dedicato a Traversetolo presso la Corte Agresti\, quelle di Ghiretti e Minari sono le vere scoperte di questa esposizione. \nClaudio Cantadori e la cugina Cornelia Ghiretti – entrambi legati da stretta parentela all’artista – negli ultimi 30 anni hanno raccolto tutte le opere di Ghiretti ritracciate sul mercato antiquario italiano ma anche internazionale\, arrivando a collezionare decine di sbalzi in rame e argento\, varie sculture in bronzo\, più di un centinaio di disegni\, spesso studi o bozzetti per opere\, alcune delle quali qui in mostra\, altre forse perdute o mai realizzate. \nAppassionato collezionista\, Claudio Cantadori ha acquistato sul mercato anche opere del capostipite della scuola\, Renato Brozzi\, e un’opera di Mario Minari\, un piatto sbalzato in rame con coppia di pesci gatto\, pensando ad un nucleo omogeneo per scuola. \nLa ricerca artistica del donatore è stata completata e approfondita attingendo a collezioni private\, consentendo di ricostruire la figura di Minari\, che a pieno titolo è stato inserito tra gli esponenti di spicco della “Scuola parmense di sbalzo e cesello”. \nFrancesca Magri e Anna Mavilla
URL:https://www.fondazionecrp.it/evento/la-collezione-cantadori/
LOCATION:Palazzo Bossi Bocchi\, Strada al ponte Caprazucca\, 4\, Parma\, 43121\, Italia
CATEGORIES:Attività culturali,Eventi a Palazzo Bossi Bocchi,Mostre
ATTACH;FMTTYPE=image/jpeg:https://www.fondazionecrp.it/wp-content/uploads/2022/02/cantadori-01.jpg
END:VEVENT
BEGIN:VEVENT
DTSTART;TZID=Europe/Rome:20220503T170000
DTEND;TZID=Europe/Rome:20220503T170000
DTSTAMP:20260422T151721
CREATED:20220215T164511Z
LAST-MODIFIED:20220215T164511Z
UID:11565-1651597200-1651597200@www.fondazionecrp.it
SUMMARY:Dalla terra al vetro. La nuova ed utile arte dei Della Robbia
DESCRIPTION:L’appuntamento sarà dedicato all’innovativa arte delle terrecotte policrome invetriate che\, nella Firenze del Quattrocento\, uscirono dalla bottega della famiglia Della Robbia\, inventate dal capostipite Luca\, scultore fiorentino. L’incontro vuole essere un’occasione per conoscere più da vicino una tecnica geniale\, che ha raggiunto esiti di straordinaria bellezza e perizia esecutiva\, ampliando la gamma cromatica della ceramica tradizionale e rendendo le opere estremamente durature. I pezzi presenti nella Donazione Garbarino saranno inoltre spunto per meglio comprendere l’immediato e strepitoso successo di questa fiorente produzione e la conseguente nascita di botteghe rivali. \nEvento gratuito.\nLa partecipazione è consentita fino ad esaurimento posti per un massimo di 60 posti a sedere.\nPer informazioni guide@fondazionecrp.it
URL:https://www.fondazionecrp.it/evento/dalla-terra-al-vetro-la-nuova-ed-utile-arte-dei-della-robbia/
LOCATION:Palazzo Bossi Bocchi\, Strada al ponte Caprazucca\, 4\, Parma\, 43121\, Italia
CATEGORIES:Martedì dell'Arte
ATTACH;FMTTYPE=image/jpeg:https://www.fondazionecrp.it/wp-content/uploads/2022/02/3-maggio_terra-del-vetro.jpg
END:VEVENT
BEGIN:VEVENT
DTSTART;TZID=Europe/Rome:20220508T160000
DTEND;TZID=Europe/Rome:20220508T163000
DTSTAMP:20260422T151721
CREATED:20220215T172451Z
LAST-MODIFIED:20220216T093403Z
UID:11579-1652025600-1652027400@www.fondazionecrp.it
SUMMARY:Cornelio Ghiretti
DESCRIPTION:Da talentuoso e giovanissimo artigiano ad artista e cesellatore ricercato da importanti committenti\, Cornelio Ghiretti ha percorso una strada\, purtroppo troppo presto interrotta\, caratterizzata da esuberanza inventiva\, rigore formale\, ricerca di bellezza e raffinatezza tecnica. \nEvento gratuito.\nLa partecipazione è consentita fino ad esaurimento posti per un massimo di 60 posti a sedere.\nPer informazioni guide@fondazionecrp.it
URL:https://www.fondazionecrp.it/evento/cornelio-ghiretti/
LOCATION:Palazzo Bossi Bocchi\, Strada al ponte Caprazucca\, 4\, Parma\, 43121\, Italia
CATEGORIES:Mezz'ora d'arte con...
ATTACH;FMTTYPE=image/jpeg:https://www.fondazionecrp.it/wp-content/uploads/2022/02/8-maggio_Ghiretti.jpeg
END:VEVENT
BEGIN:VEVENT
DTSTART;TZID=Europe/Rome:20220510T170000
DTEND;TZID=Europe/Rome:20220510T170000
DTSTAMP:20260422T151721
CREATED:20220215T164706Z
LAST-MODIFIED:20220215T164706Z
UID:11567-1652202000-1652202000@www.fondazionecrp.it
SUMMARY:La Vasca Votiva di Noceto
DESCRIPTION:Scoperta casualmente nel 2005\, la vasca votiva di Noceto è una struttura lignea rettangolare\, contenente numerosi oggetti in legno\, fibre vegetali e ceramica\, di eccezionale valore documentario per la conoscenza della cultura terramaricola che si diffonde nella pianura Padana centrale e che caratterizza anche il territorio di Parma durante la piena età del Bronzo. L’incontro sarà l’occasione per ripercorrere le tappe della scoperta\, dello scavo\, dello studio e della musealizzazione di questo importante ritrovamento e per scoprire diversi aspetti culturali e rituali della popolazione che l’ha prodotta. \nEvento gratuito.\nLa partecipazione è consentita fino ad esaurimento posti per un massimo di 60 posti a sedere.\nPer informazioni guide@fondazionecrp.it
URL:https://www.fondazionecrp.it/evento/la-vasca-votiva-di-noceto/
LOCATION:Palazzo Bossi Bocchi\, Strada al ponte Caprazucca\, 4\, Parma\, 43121\, Italia
CATEGORIES:Martedì dell'Arte
ATTACH;FMTTYPE=image/jpeg:https://www.fondazionecrp.it/wp-content/uploads/2022/02/10-maggio_VASCA-NOCETO-di-Vladimir-Cojarschi.jpeg
END:VEVENT
BEGIN:VEVENT
DTSTART;TZID=Europe/Rome:20220515T160000
DTEND;TZID=Europe/Rome:20220515T163000
DTSTAMP:20260422T151721
CREATED:20220215T172603Z
LAST-MODIFIED:20220216T093328Z
UID:11581-1652630400-1652632200@www.fondazionecrp.it
SUMMARY:Bianca in rosa di Amedeo Bocchi
DESCRIPTION:Attraverso l’indagine dei volti della sfera familiare\, Amedeo Bocchi ripercorre nelle sue tele un diario personale in cui con una pittura sensibilissima alla luce e alle concordanze cromatiche esalta la bellezza e la dolcezza femminile. L’incontro si affida allo studio del ritratto di Bianca\, unica e adorata figlia dell’artista\, recentemente restaurato e facente parte delle Collezioni d’arte di Fondazione Cariparma. \nEvento gratuito.\nLa partecipazione è consentita fino ad esaurimento posti per un massimo di 60 posti a sedere.\nPer informazioni guide@fondazionecrp.it
URL:https://www.fondazionecrp.it/evento/bianca-in-rosa-di-amedeo-bocchi/
LOCATION:Palazzo Bossi Bocchi\, Strada al ponte Caprazucca\, 4\, Parma\, 43121\, Italia
CATEGORIES:Mezz'ora d'arte con...
ATTACH;FMTTYPE=image/jpeg:https://www.fondazionecrp.it/wp-content/uploads/2022/02/15-maggio_amedeo-bocchi.jpeg
END:VEVENT
END:VCALENDAR