BEGIN:VCALENDAR
VERSION:2.0
PRODID:-//Fondazione Cariparma - ECPv6.6.0.2//NONSGML v1.0//EN
CALSCALE:GREGORIAN
METHOD:PUBLISH
X-WR-CALNAME:Fondazione Cariparma
X-ORIGINAL-URL:https://www.fondazionecrp.it
X-WR-CALDESC:Eventi per Fondazione Cariparma
REFRESH-INTERVAL;VALUE=DURATION:PT1H
X-Robots-Tag:noindex
X-PUBLISHED-TTL:PT1H
BEGIN:VTIMEZONE
TZID:Europe/Rome
BEGIN:DAYLIGHT
TZOFFSETFROM:+0100
TZOFFSETTO:+0200
TZNAME:CEST
DTSTART:20220327T010000
END:DAYLIGHT
BEGIN:STANDARD
TZOFFSETFROM:+0200
TZOFFSETTO:+0100
TZNAME:CET
DTSTART:20221030T010000
END:STANDARD
END:VTIMEZONE
BEGIN:VEVENT
DTSTART;TZID=Europe/Rome:20220226T100000
DTEND;TZID=Europe/Rome:20220529T180000
DTSTAMP:20260422T134321
CREATED:20220215T161932Z
LAST-MODIFIED:20220929T152250Z
UID:11536-1645869600-1653847200@www.fondazionecrp.it
SUMMARY:La Collezione Cantadori
DESCRIPTION:Recentemente donata a Fondazione Cariparma\, la Collezione di Claudio Cantadori\, pronipote dell’artista Cornelio Ghiretti\, è il frutto di una ricerca costante e appassionata\, che indaga il mondo della scultura e dell’arte decorativa della prima metà del Novecento parmense\, con un particolare interesse nei confronti di tre originali artisti: Renato Brozzi\, Cornelio Ghiretti e Mario Minari. \nL’origine della “Scuola parmense di sbalzo e cesello” va ricercata nel comune ambiente di crescita dei tre artisti originari di Traversetolo: la Fonderia di Giuseppe Baldi\, il luogo in cui si intrecciano le vicende artistiche e le storie personali dei tre giovani agli albori della loro carriera. \nL’apprendistato presso Baldi aveva insegnato loro una struttura di lavoro\, nella quale il “progetto” si fondeva con la procedura esecutiva\, ma per arrivare ad una completa formazione i tre dovettero conciliare il difficile riunirsi del mestiere con l’arte\, dell’abilità manuale con la cultura\, della tradizione con la proiezione artistica futura. Tutti e tre\, in tempi diversi ma con le stesse estreme difficoltà\, hanno frequentato il Regio Istituto di Belle Arti di Parma. \nOltre alla povertà della nascita e all’origine autodidatta della propria cultura\, che li spinge a imparare prima il mestiere e poi l’arte\, accomuna gli artisti l’amoroso interesse per la natura e soprattutto per i singoli animali\, dalla presa diretta alla stilizzazione in complementi d’arredo\, sebbene con sensibilità e predilezioni tematiche del tutto autonome\, che vanno dalla fauna spiccatamente acquatica privilegiata da Ghiretti\, ai fasianidi tanto amati da Minari. \nSe la figura di Brozzi è già stata ampiamente indagata da numerose pubblicazioni e mostre temporanee\, oltre che dal Museo Renato Brozzi che gli è stato dedicato a Traversetolo presso la Corte Agresti\, quelle di Ghiretti e Minari sono le vere scoperte di questa esposizione. \nClaudio Cantadori e la cugina Cornelia Ghiretti – entrambi legati da stretta parentela all’artista – negli ultimi 30 anni hanno raccolto tutte le opere di Ghiretti ritracciate sul mercato antiquario italiano ma anche internazionale\, arrivando a collezionare decine di sbalzi in rame e argento\, varie sculture in bronzo\, più di un centinaio di disegni\, spesso studi o bozzetti per opere\, alcune delle quali qui in mostra\, altre forse perdute o mai realizzate. \nAppassionato collezionista\, Claudio Cantadori ha acquistato sul mercato anche opere del capostipite della scuola\, Renato Brozzi\, e un’opera di Mario Minari\, un piatto sbalzato in rame con coppia di pesci gatto\, pensando ad un nucleo omogeneo per scuola. \nLa ricerca artistica del donatore è stata completata e approfondita attingendo a collezioni private\, consentendo di ricostruire la figura di Minari\, che a pieno titolo è stato inserito tra gli esponenti di spicco della “Scuola parmense di sbalzo e cesello”. \nFrancesca Magri e Anna Mavilla
URL:https://www.fondazionecrp.it/evento/la-collezione-cantadori/
LOCATION:Palazzo Bossi Bocchi\, Strada al ponte Caprazucca\, 4\, Parma\, 43121\, Italia
CATEGORIES:Attività culturali,Eventi a Palazzo Bossi Bocchi,Mostre
ATTACH;FMTTYPE=image/jpeg:https://www.fondazionecrp.it/wp-content/uploads/2022/02/cantadori-01.jpg
END:VEVENT
BEGIN:VEVENT
DTSTART;TZID=Europe/Rome:20220405T170000
DTEND;TZID=Europe/Rome:20220405T170000
DTSTAMP:20260422T134321
CREATED:20220215T164140Z
LAST-MODIFIED:20220215T164140Z
UID:11561-1649178000-1649178000@www.fondazionecrp.it
SUMMARY:Nuove luci intorno a Pietro Antonio Balestra
DESCRIPTION:Alcuni affondi critici sul percorso di studio e lavoro del prete pittore ed intendente d’arte che operò in Busseto nel secolo dei lumi. \nEvento gratuito.\nLa partecipazione è consentita fino ad esaurimento posti per un massimo di 60 posti a sedere.\nPer informazioni guide@fondazionecrp.it
URL:https://www.fondazionecrp.it/evento/nuove-luci-intorno-a-pietro-antonio-balestra/
LOCATION:Palazzo Bossi Bocchi\, Strada al ponte Caprazucca\, 4\, Parma\, 43121\, Italia
CATEGORIES:Martedì dell'Arte
ATTACH;FMTTYPE=image/jpeg:https://www.fondazionecrp.it/wp-content/uploads/2022/02/5-aprile_antonio-balestra.jpg
END:VEVENT
BEGIN:VEVENT
DTSTART;TZID=Europe/Rome:20220410T160000
DTEND;TZID=Europe/Rome:20220410T163000
DTSTAMP:20260422T134321
CREATED:20220215T172329Z
LAST-MODIFIED:20220216T093409Z
UID:11577-1649606400-1649608200@www.fondazionecrp.it
SUMMARY:Mario Minari
DESCRIPTION:È forse l’artista meno noto della Scuola parmense di sbalzo e cesello. Scarse le tracce documentarie\, rari i riscontri biografici\, quasi assenti\, fino ad oggi\, i contributi critici. Complice di questo prolungato silenzio forse l’ombra lunga del grande maestro\, Renato Brozzi\, ma anche\, e certamente\, un carattere schivo\, perfino un po’ ruvido\, poco utile alla promozione di sé. A parlare di Minari\, del suo ingegno artigiano declinato in raffinatezze inventive\, sono le sue opere\, scoperte per lo più in case private e per la prima volta esposte al pubblico a Palazzo Bossi Bocchi. \nEvento gratuito.\nLa partecipazione è consentita fino ad esaurimento posti per un massimo di 60 posti a sedere.\nPer informazioni guide@fondazionecrp.it
URL:https://www.fondazionecrp.it/evento/mario-minari/
LOCATION:Palazzo Bossi Bocchi\, Strada al ponte Caprazucca\, 4\, Parma\, 43121\, Italia
CATEGORIES:Mezz'ora d'arte con...
ATTACH;FMTTYPE=image/jpeg:https://www.fondazionecrp.it/wp-content/uploads/2022/02/10-aprile_mario-minari.jpeg
END:VEVENT
BEGIN:VEVENT
DTSTART;TZID=Europe/Rome:20220412T170000
DTEND;TZID=Europe/Rome:20220412T170000
DTSTAMP:20260422T134321
CREATED:20220215T164320Z
LAST-MODIFIED:20220215T164320Z
UID:11563-1649782800-1649782800@www.fondazionecrp.it
SUMMARY:Rosalba Bernini\, litografa e illustratrice di libri scientifici
DESCRIPTION:Nata a Parma nel 1763\, Rosalba Bernini è considerata la prima donna litografa. Figlia di Clemente\, pittore e maestro di Disegno presso il Collegio dei Nobili\, venne nominata “Accademica d’Onore” dell’Accademia Clementina di Bologna. Fondamentale il suo contributo per terminare l’opera del padre “Ornitologia dell’Europa Meridionale”\, Rosalba Bernini fu molto apprezzata anche come ritrattista e disegnatrice di “stoffe e fiori\, rabeschi e animali”. \nEvento gratuito.\nLa partecipazione è consentita fino ad esaurimento posti per un massimo di 60 posti a sedere.\nPer informazioni guide@fondazionecrp.it
URL:https://www.fondazionecrp.it/evento/rosalba-bernini-litografa-e-illustratrice-di-libri-scientifici/
LOCATION:Palazzo Bossi Bocchi\, Strada al ponte Caprazucca\, 4\, Parma\, 43121\, Italia
CATEGORIES:Martedì dell'Arte
ATTACH;FMTTYPE=image/jpeg:https://www.fondazionecrp.it/wp-content/uploads/2022/02/12-aprile_bernini.jpg
END:VEVENT
END:VCALENDAR