BEGIN:VCALENDAR
VERSION:2.0
PRODID:-//Fondazione Cariparma - ECPv6.6.0.2//NONSGML v1.0//EN
CALSCALE:GREGORIAN
METHOD:PUBLISH
X-WR-CALNAME:Fondazione Cariparma
X-ORIGINAL-URL:https://www.fondazionecrp.it
X-WR-CALDESC:Eventi per Fondazione Cariparma
REFRESH-INTERVAL;VALUE=DURATION:PT1H
X-Robots-Tag:noindex
X-PUBLISHED-TTL:PT1H
BEGIN:VTIMEZONE
TZID:Europe/Rome
BEGIN:DAYLIGHT
TZOFFSETFROM:+0100
TZOFFSETTO:+0200
TZNAME:CEST
DTSTART:20220327T010000
END:DAYLIGHT
BEGIN:STANDARD
TZOFFSETFROM:+0200
TZOFFSETTO:+0100
TZNAME:CET
DTSTART:20221030T010000
END:STANDARD
END:VTIMEZONE
BEGIN:VEVENT
DTSTART;TZID=Europe/Rome:20220226T100000
DTEND;TZID=Europe/Rome:20220529T180000
DTSTAMP:20260422T141348
CREATED:20220215T161932Z
LAST-MODIFIED:20220929T152250Z
UID:11536-1645869600-1653847200@www.fondazionecrp.it
SUMMARY:La Collezione Cantadori
DESCRIPTION:Recentemente donata a Fondazione Cariparma\, la Collezione di Claudio Cantadori\, pronipote dell’artista Cornelio Ghiretti\, è il frutto di una ricerca costante e appassionata\, che indaga il mondo della scultura e dell’arte decorativa della prima metà del Novecento parmense\, con un particolare interesse nei confronti di tre originali artisti: Renato Brozzi\, Cornelio Ghiretti e Mario Minari. \nL’origine della “Scuola parmense di sbalzo e cesello” va ricercata nel comune ambiente di crescita dei tre artisti originari di Traversetolo: la Fonderia di Giuseppe Baldi\, il luogo in cui si intrecciano le vicende artistiche e le storie personali dei tre giovani agli albori della loro carriera. \nL’apprendistato presso Baldi aveva insegnato loro una struttura di lavoro\, nella quale il “progetto” si fondeva con la procedura esecutiva\, ma per arrivare ad una completa formazione i tre dovettero conciliare il difficile riunirsi del mestiere con l’arte\, dell’abilità manuale con la cultura\, della tradizione con la proiezione artistica futura. Tutti e tre\, in tempi diversi ma con le stesse estreme difficoltà\, hanno frequentato il Regio Istituto di Belle Arti di Parma. \nOltre alla povertà della nascita e all’origine autodidatta della propria cultura\, che li spinge a imparare prima il mestiere e poi l’arte\, accomuna gli artisti l’amoroso interesse per la natura e soprattutto per i singoli animali\, dalla presa diretta alla stilizzazione in complementi d’arredo\, sebbene con sensibilità e predilezioni tematiche del tutto autonome\, che vanno dalla fauna spiccatamente acquatica privilegiata da Ghiretti\, ai fasianidi tanto amati da Minari. \nSe la figura di Brozzi è già stata ampiamente indagata da numerose pubblicazioni e mostre temporanee\, oltre che dal Museo Renato Brozzi che gli è stato dedicato a Traversetolo presso la Corte Agresti\, quelle di Ghiretti e Minari sono le vere scoperte di questa esposizione. \nClaudio Cantadori e la cugina Cornelia Ghiretti – entrambi legati da stretta parentela all’artista – negli ultimi 30 anni hanno raccolto tutte le opere di Ghiretti ritracciate sul mercato antiquario italiano ma anche internazionale\, arrivando a collezionare decine di sbalzi in rame e argento\, varie sculture in bronzo\, più di un centinaio di disegni\, spesso studi o bozzetti per opere\, alcune delle quali qui in mostra\, altre forse perdute o mai realizzate. \nAppassionato collezionista\, Claudio Cantadori ha acquistato sul mercato anche opere del capostipite della scuola\, Renato Brozzi\, e un’opera di Mario Minari\, un piatto sbalzato in rame con coppia di pesci gatto\, pensando ad un nucleo omogeneo per scuola. \nLa ricerca artistica del donatore è stata completata e approfondita attingendo a collezioni private\, consentendo di ricostruire la figura di Minari\, che a pieno titolo è stato inserito tra gli esponenti di spicco della “Scuola parmense di sbalzo e cesello”. \nFrancesca Magri e Anna Mavilla
URL:https://www.fondazionecrp.it/evento/la-collezione-cantadori/
LOCATION:Palazzo Bossi Bocchi\, Strada al ponte Caprazucca\, 4\, Parma\, 43121\, Italia
CATEGORIES:Attività culturali,Eventi a Palazzo Bossi Bocchi,Mostre
ATTACH;FMTTYPE=image/jpeg:https://www.fondazionecrp.it/wp-content/uploads/2022/02/cantadori-01.jpg
END:VEVENT
BEGIN:VEVENT
DTSTART;TZID=Europe/Rome:20220306T160000
DTEND;TZID=Europe/Rome:20220306T163000
DTSTAMP:20260422T141348
CREATED:20220215T165130Z
LAST-MODIFIED:20220216T093425Z
UID:11569-1646582400-1646584200@www.fondazionecrp.it
SUMMARY:Felice Boselli
DESCRIPTION:L’esuberante organizzazione compositiva di Felice Boselli è opulenta\, trionfante. L’abbondante varietà dei prelibati alimenti che il pittore dispone sulle sue tele illustra la fertilità delle terre e la saggezza di chi bene le amministra. Questa ostentazione di cibi in grandi rappresentazioni che ritraggono dispense\, interni di cucina\, trofei di vettovaglie\, era destinata soprattutto a rallegrare le sale del banchetto e del convivio delle dimore signorili. Gli alimenti rappresentati da Felice Boselli fanno tutti parte del vocabolario alimentare padano e sono collegati\, in funzione apotropaica\, a elementi beneauguranti di fecondità come la colomba o il porcellino d’India che si muove tra le vivande incurante del gatto\, tradizionale sigla del pittore. \nEvento gratuito.\nLa partecipazione è consentita fino ad esaurimento posti per un massimo di 60 posti a sedere.\nPer informazioni guide@fondazionecrp.it
URL:https://www.fondazionecrp.it/evento/felice-boselli/
LOCATION:Palazzo Bossi Bocchi\, Strada al ponte Caprazucca\, 4\, Parma\, 43121\, Italia
CATEGORIES:Mezz'ora d'arte con...
ATTACH;FMTTYPE=image/jpeg:https://www.fondazionecrp.it/wp-content/uploads/2022/02/6-marzo_felice-boselli.jpg
END:VEVENT
BEGIN:VEVENT
DTSTART;TZID=Europe/Rome:20220308T170000
DTEND;TZID=Europe/Rome:20220308T170000
DTSTAMP:20260422T141348
CREATED:20220215T162529Z
LAST-MODIFIED:20220215T163333Z
UID:11542-1646758800-1646758800@www.fondazionecrp.it
SUMMARY:Soggetto Donna
DESCRIPTION:Dallo splendore della corte alla mondanità del teatro e dei caffè della belle-époque passando per il sofisticato salotto ottocentesco\, ripercorriamo l’universo femminile attraverso i ritratti delle donne che animano le sale delle Collezioni di Fondazione Cariparma. \nEvento gratuito.\nLa partecipazione è consentita fino ad esaurimento posti per un massimo di 60 posti a sedere.\nPer informazioni guide@fondazionecrp.it
URL:https://www.fondazionecrp.it/evento/soggetto-donna/
LOCATION:Palazzo Bossi Bocchi\, Strada al ponte Caprazucca\, 4\, Parma\, 43121\, Italia
CATEGORIES:Martedì dell'Arte
ATTACH;FMTTYPE=image/jpeg:https://www.fondazionecrp.it/wp-content/uploads/2022/02/8-marzo_soggetto-donna.jpeg
END:VEVENT
BEGIN:VEVENT
DTSTART;TZID=Europe/Rome:20220315T170000
DTEND;TZID=Europe/Rome:20220315T170000
DTSTAMP:20260422T141348
CREATED:20220215T163633Z
LAST-MODIFIED:20220215T163633Z
UID:11557-1647363600-1647363600@www.fondazionecrp.it
SUMMARY:“La Scuola parmense” di sbalzo e cesello. Brozzi\, Ghiretti\, Minari
DESCRIPTION:Le opere pervenute alla Fondazione Cariparma\, grazie alla generosa donazione di Claudio Cantadori\, hanno consentito da un lato di riallacciare il filo della storia della “Scuola parmense di sbalzo e cesello” e delle sue origini\, da ricercarsi nell’ambiente della Fonderia di Giuseppe Baldi a Traversetolo in cui  si intrecciano le vicende artistiche e le storie personali di tre giovani talentuosi agli albori della loro carriera\, Renato Brozzi (Traversetolo-PR\, 1885-ivi\, 1963)\, Cornelio Ghiretti (Basilicagoiano di Montechiarugolo-PR\, 1891-Milano\, 1934)\, Mario Minari (Vignale di Traversetolo-PR\, 1894-Vairo di Palanzano-PR\, 1962)\, e dall’altro di far emergere accanto alla più nota vicenda umana e professionale del caposcuola Brozzi\, quelle dei suoi meno conosciuti discepoli\, evidenziandone la specificità del registro espressivo\, sempre di qualità altissima\, e l’unicità nel panorama artistico italiano dei primi decenni del Novecento. \nEvento gratuito.\nLa partecipazione è consentita fino ad esaurimento posti per un massimo di 60 posti a sedere.\nPer informazioni guide@fondazionecrp.it
URL:https://www.fondazionecrp.it/evento/la-scuola-parmense-di-sbalzo-e-cesello-brozzi-ghiretti-minari/
LOCATION:Palazzo Bossi Bocchi\, Strada al ponte Caprazucca\, 4\, Parma\, 43121\, Italia
CATEGORIES:Martedì dell'Arte
ATTACH;FMTTYPE=image/jpeg:https://www.fondazionecrp.it/wp-content/uploads/2022/02/15-marzo_scuola-parmense_mavilla.jpeg
END:VEVENT
BEGIN:VEVENT
DTSTART;TZID=Europe/Rome:20220320T160000
DTEND;TZID=Europe/Rome:20220320T163000
DTSTAMP:20260422T141348
CREATED:20220215T165416Z
LAST-MODIFIED:20220216T093420Z
UID:11573-1647792000-1647793800@www.fondazionecrp.it
SUMMARY:Francesco Michetti e l’arte orafa abruzzese
DESCRIPTION:Pittore\, fotografo\, animatore di un cenacolo culturale insieme a Gabriele D’Annunzio\, Francesco Paolo Michetti è stato anche ritrattista. Le donne\, le contadine\, che egli ha ritratto\, indossano spesso i monili della tradizione abruzzese. Non solo dettagli preziosi\, ma simboli di una cultura antica e ben radicata nell’artista. \nEvento gratuito.\nLa partecipazione è consentita fino ad esaurimento posti per un massimo di 60 posti a sedere.\nPer informazioni guide@fondazionecrp.it
URL:https://www.fondazionecrp.it/evento/francesco-michetti-e-larte-orafa-abruzzese/
LOCATION:Palazzo Bossi Bocchi\, Strada al ponte Caprazucca\, 4\, Parma\, 43121\, Italia
CATEGORIES:Mezz'ora d'arte con...
ATTACH;FMTTYPE=image/jpeg:https://www.fondazionecrp.it/wp-content/uploads/2022/02/20-marzo_francesco-michetti.jpeg
END:VEVENT
BEGIN:VEVENT
DTSTART;TZID=Europe/Rome:20220327T160000
DTEND;TZID=Europe/Rome:20220327T163000
DTSTAMP:20260422T141348
CREATED:20220215T172114Z
LAST-MODIFIED:20220216T093416Z
UID:11575-1648396800-1648398600@www.fondazionecrp.it
SUMMARY:Giuseppe Boccaccio
DESCRIPTION:Giuseppe Boccaccio\, pittore paesaggista e maestro di Maria Luigia\, con la sua “Veduta di Piazza Grande” ci darà lo spunto per fare un tuffo nel passato e rivivere uno spaccato di vita quotidiana nella nostra città durante un giorno di mercato. \nEvento gratuito.\nLa partecipazione è consentita fino ad esaurimento posti per un massimo di 60 posti a sedere.\nPer informazioni guide@fondazionecrp.it
URL:https://www.fondazionecrp.it/evento/giuseppe-boccaccio/
LOCATION:Palazzo Bossi Bocchi\, Strada al ponte Caprazucca\, 4\, Parma\, 43121\, Italia
CATEGORIES:Mezz'ora d'arte con...
ATTACH;FMTTYPE=image/jpeg:https://www.fondazionecrp.it/wp-content/uploads/2022/02/27-marzo_giuseppe-boccaccio.jpeg
END:VEVENT
BEGIN:VEVENT
DTSTART;TZID=Europe/Rome:20220329T170000
DTEND;TZID=Europe/Rome:20220329T170000
DTSTAMP:20260422T141348
CREATED:20220215T163807Z
LAST-MODIFIED:20220215T163845Z
UID:11559-1648573200-1648573200@www.fondazionecrp.it
SUMMARY:Acta Martyrum: alle origini del culto dei Martiri
DESCRIPTION:Scuoiati vivi. Rosolati a fuoco lento su una graticola. Mutilati dei loro organi più vitali o trafitti da un nugolo di frecce. I santi del martirologio cristiano e la vasta casistica di strumenti\, torture\, modalità del martirio forniscono agli artisti di ogni epoca motivi non solo per la loro ispirazione ma anche per supportare la curiosità di schiere di fedeli desiderosi di exempla cui conformare la loro tribolata esistenza. A partire dal III secolo\, in coincidenza con le grandi persecuzioni\, la venerazione verso i più ardenti “testimoni della fede”\, si manifesta sia come genere letterario che in ambito artistico – dalle pitture murali delle catacombe alle grandi opere dei maestri del Rinascimento\, passando per i codici miniati e le tavole lignee del Medioevo.  \nEvento gratuito.\nLa partecipazione è consentita fino ad esaurimento posti per un massimo di 60 posti a sedere.\nPer informazioni guide@fondazionecrp.it
URL:https://www.fondazionecrp.it/evento/acta-martyrum-alle-origini-del-culto-dei-martiri-3/
LOCATION:Palazzo Bossi Bocchi\, Strada al ponte Caprazucca\, 4\, Parma\, 43121\, Italia
CATEGORIES:Martedì dell'Arte
ATTACH;FMTTYPE=image/jpeg:https://www.fondazionecrp.it/wp-content/uploads/2022/02/29-marzo_F.-di-Stefano-detto-il-Pesellino-Martirio-di-Santo.jpg
END:VEVENT
END:VCALENDAR