BEGIN:VCALENDAR
VERSION:2.0
PRODID:-//Fondazione Cariparma - ECPv6.6.0.2//NONSGML v1.0//EN
CALSCALE:GREGORIAN
METHOD:PUBLISH
X-ORIGINAL-URL:https://www.fondazionecrp.it
X-WR-CALDESC:Eventi per Fondazione Cariparma
REFRESH-INTERVAL;VALUE=DURATION:PT1H
X-Robots-Tag:noindex
X-PUBLISHED-TTL:PT1H
BEGIN:VTIMEZONE
TZID:Europe/Rome
BEGIN:DAYLIGHT
TZOFFSETFROM:+0100
TZOFFSETTO:+0200
TZNAME:CEST
DTSTART:20250330T010000
END:DAYLIGHT
BEGIN:STANDARD
TZOFFSETFROM:+0200
TZOFFSETTO:+0100
TZNAME:CET
DTSTART:20251026T010000
END:STANDARD
END:VTIMEZONE
BEGIN:VEVENT
DTSTART;TZID=Europe/Rome:20250225T170000
DTEND;TZID=Europe/Rome:20250225T170000
DTSTAMP:20260424T113630
CREATED:20250211T133602Z
LAST-MODIFIED:20250211T133602Z
UID:16550-1740502800-1740502800@www.fondazionecrp.it
SUMMARY:La biblioteca digitale\, in classe e a casa
DESCRIPTION:I servizi MLOL Scuola consentono agli insegnanti dell’Istituto Comprensivo di Busseto di arricchire i propri percorsi didattici e di approfondimento con i libri e gli audiolibri digitali dei maggiori editori italiani\, oltre a una collezione di milioni di oggetti digitali ad accesso libero. Durante l’incontro approfondiremo il catalogo MLOL Scuola\, cercando anche di fornire ai partecipanti le indicazioni tecniche di base sulla fruizione delle risorse.
URL:https://www.fondazionecrp.it/evento/la-biblioteca-digitale-in-classe-e-a-casa/
LOCATION:Biblioteca di Busseto\, Via Roma\, 38\, Busseto\, Parma\, 43011\, Italia
CATEGORIES:Bibliotecainrete
ATTACH;FMTTYPE=image/jpeg:https://www.fondazionecrp.it/wp-content/uploads/2025/02/25-febbraio-biblioteca-in-rete-scaled.jpg
END:VEVENT
END:VCALENDAR