BEGIN:VCALENDAR
VERSION:2.0
PRODID:-//Fondazione Cariparma - ECPv6.6.0.2//NONSGML v1.0//EN
CALSCALE:GREGORIAN
METHOD:PUBLISH
X-WR-CALNAME:Fondazione Cariparma
X-ORIGINAL-URL:https://www.fondazionecrp.it
X-WR-CALDESC:Eventi per Fondazione Cariparma
REFRESH-INTERVAL;VALUE=DURATION:PT1H
X-Robots-Tag:noindex
X-PUBLISHED-TTL:PT1H
BEGIN:VTIMEZONE
TZID:Europe/Rome
BEGIN:DAYLIGHT
TZOFFSETFROM:+0100
TZOFFSETTO:+0200
TZNAME:CEST
DTSTART:20240331T010000
END:DAYLIGHT
BEGIN:STANDARD
TZOFFSETFROM:+0200
TZOFFSETTO:+0100
TZNAME:CET
DTSTART:20241027T010000
END:STANDARD
BEGIN:DAYLIGHT
TZOFFSETFROM:+0100
TZOFFSETTO:+0200
TZNAME:CEST
DTSTART:20250330T010000
END:DAYLIGHT
BEGIN:STANDARD
TZOFFSETFROM:+0200
TZOFFSETTO:+0100
TZNAME:CET
DTSTART:20251026T010000
END:STANDARD
END:VTIMEZONE
BEGIN:VEVENT
DTSTART;VALUE=DATE:20240921
DTEND;VALUE=DATE:20241223
DTSTAMP:20260424T114744
CREATED:20240903T135839Z
LAST-MODIFIED:20240919T141316Z
UID:15698-1726876800-1734911999@www.fondazionecrp.it
SUMMARY:Il Pinocchio d'Artista di Mimmo Paladino. Tra schizzi\, parole e note
DESCRIPTION:Una contaminazione di generi e di esperienze diverse: letteratura\, arte e musica si intrecciano a più livelli per dar vita ad identità più ricche e stratificate\, con l’obiettivo di coinvolgere un pubblico ampio e multigenerazionale. \nL’esposizione prende avvio dal libro d’artista Pinocchio\, di Domenico Paladino – noto come Mimmo Paladino – uno tra i maggiori artisti della Transavanguardia\, ed è un ciclo di 26 grandi tavole sciolte\, tutte stampate a tiratura limitata e firmate dall’artista\, facenti parte della Collezione Mingardi di Fondazione Cariparma. Le tavole – create nel 2004 dal celebre artista\, in una originale reinterpretazione della fiaba di Collodi – sono state realizzate secondo tecniche e stili differenti (acqueforti\, acquetinte\, serigrafie e collage di frammenti di legno e carta\, oro e rame in foglia e acquerello) e risultano di eccezionale vivacità cromatica e compositiva. \nAccanto alle tavole sono esposte una trentina di edizioni del romanzo di Collodi Le avventure di Pinocchio. Storia di un burattino\, stampate in Italia dall’inizio del ‘900 ai giorni nostri e conservate nella Biblioteca di Busseto di Fondazione Cariparma. \nGrazie al patrocinio della Fondazione Nazionale Carlo Collodi e alla collaborazione con Sinapsi Group\, completa l’esposizione Pinocchio all’opera\, una serie di statue in legno realizzate dall’artista Mauro Olivotto “Lampo”\, che ha scolpito i personaggi del mondo della lirica dando loro le sembianze del burattino Pinocchio.\nAlcuni sono stati robotizzati dalla Scuola di Robotica di Genova e\, muovendosi autonomamente\, suonano arie musicali verdiane. È una panoramica sul mondo della grande musica e\, al contempo\, un percorso di avvicinamento all’opera lirica per superare la convinzione che essa sia un’arte per pochi. \nLa mostra è corredata di 13 appuntamenti d’approfondimento per adulti e bambini. Inoltre\, è inserita nella programmazione territoriale del Verdi Off 2024 e nella XII edizione di I Like Parma\, in programma il 5 e il 6 ottobre. \nDal 21 settembre al 22 dicembre \nGiornate di apertura e orari:\nMartedì e giovedì: 15:30 – 18:00\nSabato e domenica: 10:00 -12:30\, 15:30 – 18:00 \nIngresso gratuito \nPer gruppi le visite sono possibili solo su appuntamento alla mail: guide@fondazionecrp.it\nPer scolaresche le visite sono possibili solo su appuntamento alla mail:  percorsi.artificio@gmail.com
URL:https://www.fondazionecrp.it/evento/il-pinocchio-dartista-di-mimmo-paladino-tra-schizzi-parole-e-note/
LOCATION:Palazzo Bossi Bocchi\, Strada al ponte Caprazucca\, 4\, Parma\, 43121\, Italia
CATEGORIES:Attività culturali,Eventi a Palazzo Bossi Bocchi,Mostre,Verdi Off
ATTACH;FMTTYPE=image/jpeg:https://www.fondazionecrp.it/wp-content/uploads/2024/08/PINOCCHIO-50x70-1-scaled.jpg
END:VEVENT
BEGIN:VEVENT
DTSTART;TZID=Europe/Rome:20241010T173000
DTEND;TZID=Europe/Rome:20250201T173000
DTSTAMP:20260424T114744
CREATED:20240806T081330Z
LAST-MODIFIED:20241210T140558Z
UID:15617-1728581400-1738431000@www.fondazionecrp.it
SUMMARY:«Pregiatissimo Signor Canonico…» La vita dei coniugi Verdi nelle lettere di Giuseppina Strepponi a Don Giovanni Avanzi
DESCRIPTION:La nostra Biblioteca conserva circa un centinaio tra lettere e bigliettini che Giuseppina Strepponi\, la seconda consorte di Giuseppe Verdi\, indirizzò tra il 1861 e il 1895 a don Giovanni Avanzi\, già parroco di Vidalenzo e canonico della Collegiata di Busseto\, nonché una delle persone più care e vicine ai coniugi Verdi\, da essi stimato per la vasta cultura. \nLe più significative tra queste\, per il contenuto ideologico e religioso\, per le testimonianze di carità e per i riferimenti alla politica nazionale e locale\, saranno esposte presso le Sale Monumentali della Biblioteca\, assieme ad alcune lettere della sorella Barberina e della contessa Clara Maffei\, oltre a due bigliettini dello stesso Verdi. L’esposizione non trascura la cronologia artistica di Verdi\, che fa sempre da sottofondo\, come gli avventurosi viaggi in Russia\, a San Pietroburgo del 1861 e 1862 in occasione della prima rappresentazione de La Forza del destino. La mostra è inoltre arricchita con alcune riproduzioni delle non frequentissime immagini pittoriche o fotografiche della compagna\, consorte e amica che fu accanto a Verdi fino al novembre del 1897 e che riposa accanto a lui a Milano nella Casa di Riposo per Musicisti. \nInaugurazione: Giovedì 10 ottobre\, ore 17.30\nLa mostra è visitabile fino a sabato 21 dicembre 2024 ogni seconda domenica del mese in occasione di “Meravigliosa biblioteca” e ogni sabato pomeriggio alle 16.30 \nPER INFO E PRENOTAZIONI:\nBiblioteca di Busseto\, Via Roma\, 38 – 43011 BUSSETO (PR)\nTel. 0524-92224 – e-mail: biblioteca.busseto@fondazionecrp.it
URL:https://www.fondazionecrp.it/evento/pregiatissimo-signor-canonico-la-vita-dei-coniugi-verdi-nelle-lettere-di-giuseppina-strepponi-a-don-giovanni-avanzi/
LOCATION:Biblioteca di Busseto\, Via Roma\, 38\, Busseto\, Parma\, 43011\, Italia
CATEGORIES:Mostre in Biblioteca,Verdi Off,Verdi Off
ATTACH;FMTTYPE=image/jpeg:https://www.fondazionecrp.it/wp-content/uploads/2024/08/F_2286.jpg
END:VEVENT
BEGIN:VEVENT
DTSTART;TZID=Europe/Rome:20241026T163000
DTEND;TZID=Europe/Rome:20241214T163000
DTSTAMP:20260424T114744
CREATED:20240809T115511Z
LAST-MODIFIED:20240828T145010Z
UID:15650-1729960200-1734193800@www.fondazionecrp.it
SUMMARY:Il Libro a Stanza
DESCRIPTION:Dai 6 ai 10 anni\, a cura di Artificio Società Cooperativa \nIngresso gratuito\nLa prenotazione è obbligatoria tramite mail guide@fondazionecrp.it
URL:https://www.fondazionecrp.it/evento/il-libro-a-stanza/
LOCATION:Palazzo Bossi Bocchi\, Strada al ponte Caprazucca\, 4\, Parma\, 43121\, Italia
CATEGORIES:Un museo a misura di bambino
ATTACH;FMTTYPE=image/jpeg:https://www.fondazionecrp.it/wp-content/uploads/2024/08/libro-a-stanza.jpg
END:VEVENT
BEGIN:VEVENT
DTSTART;TZID=Europe/Rome:20241206T210000
DTEND;TZID=Europe/Rome:20241206T210000
DTSTAMP:20260424T114744
CREATED:20240724T150217Z
LAST-MODIFIED:20240724T150217Z
UID:15585-1733518800-1733518800@www.fondazionecrp.it
SUMMARY:«Carissimo Comandante». Vent’anni di corrispondenza fra il Vate d’Italia e Renato Brozzi\, suo prediletto animaliere
DESCRIPTION:La corrispondenza quasi ventennale intercorsa fra Renato Brozzi (Traversetolo\, 1885-1963) e Gabriele D’Annunzio mette in luce l’esperienza veramente esclusiva vissuta dall’artista nel suo rapporto con l’autorevole committente\, non soltanto in relazione alle numerosissime commissioni artistiche per il Vittoriale\, ma anche in ordine al rapporto umano che si venne instaurando\, con momenti di strettissima intesa\, fra il Vate d’Italia e il suo animaliere prediletto.
URL:https://www.fondazionecrp.it/evento/carissimo-comandante-ventanni-di-corrispondenza-fra-il-vate-ditalia-e-renato-brozzi-suo-prediletto-animaliere/
LOCATION:Biblioteca di Busseto\, Via Roma\, 38\, Busseto\, Parma\, 43011\, Italia
CATEGORIES:I Venerdì della Biblioteca
ATTACH;FMTTYPE=image/jpeg:https://www.fondazionecrp.it/wp-content/uploads/2024/07/6-dicembre-Mavilla-scaled.jpg
END:VEVENT
END:VCALENDAR